BEGIN:VCALENDAR
VERSION:2.0
BEGIN:VEVENT
DTEND:20270218T160000
DTSTART:20270217T083000
DTSTAMP:20260421T122626
LOCATION:Victoriaville Centre des congrès (Hôtel le Victorin)
DESCRIPTION:17 février 2027
SUMMARY:13e colloque "Bio pour tous!"
URL;VALUE=URI:https://cetab.bio/evenements/13e-colloque-bio-pour-tous/
TRANSP:OPAQUE
BEGIN:VALARM
ACTION:DISPLAY
TRIGGER;VALUE=DATE-TIME:20270217T083000
DESCRIPTION:Reminder for 13e colloque "Bio pour tous!"
END:VALARM
END:VEVENT
END:VCALENDAR
