BEGIN:VCALENDAR
VERSION:2.0
BEGIN:VEVENT
DTEND:20240301T160000
DTSTART:20240301T090000
DTSTAMP:20260420T172623
LOCATION:Hôtel le Victorin - Centre des congrès 19 Boulevard Arthabaska Est\, Victoriaville QC G6T 0S4
DESCRIPTION:Thème: Lutte et adaptation aux changements climatiques. \n28 février: 1 salle: sols, climat et biodiversité. \n29 février: 2 salles: grandes cultures et maraîchage. 
SUMMARY:10e colloque Bio pour tous!
URL;VALUE=URI:https://cetab.bio/evenements/10e-colloque-bio-pour-tous/
TRANSP:OPAQUE
BEGIN:VALARM
ACTION:DISPLAY
TRIGGER;VALUE=DATE-TIME:20240301T090000
DESCRIPTION:Reminder for 10e colloque Bio pour tous!
END:VALARM
END:VEVENT
END:VCALENDAR
